BEGIN:VCALENDAR
VERSION:2.0
PRODID:-//Club Synergies - Groupe t2i - ECPv6.15.15//NONSGML v1.0//EN
CALSCALE:GREGORIAN
METHOD:PUBLISH
X-WR-CALNAME:Club Synergies - Groupe t2i
X-ORIGINAL-URL:https://club.groupe-t2i.com
X-WR-CALDESC:Évènements pour Club Synergies - Groupe t2i
REFRESH-INTERVAL;VALUE=DURATION:PT1H
X-Robots-Tag:noindex
X-PUBLISHED-TTL:PT1H
BEGIN:VTIMEZONE
TZID:Europe/Zurich
BEGIN:DAYLIGHT
TZOFFSETFROM:+0100
TZOFFSETTO:+0200
TZNAME:CEST
DTSTART:20230326T010000
END:DAYLIGHT
BEGIN:STANDARD
TZOFFSETFROM:+0200
TZOFFSETTO:+0100
TZNAME:CET
DTSTART:20231029T010000
END:STANDARD
BEGIN:DAYLIGHT
TZOFFSETFROM:+0100
TZOFFSETTO:+0200
TZNAME:CEST
DTSTART:20240331T010000
END:DAYLIGHT
BEGIN:STANDARD
TZOFFSETFROM:+0200
TZOFFSETTO:+0100
TZNAME:CET
DTSTART:20241027T010000
END:STANDARD
BEGIN:DAYLIGHT
TZOFFSETFROM:+0100
TZOFFSETTO:+0200
TZNAME:CEST
DTSTART:20250330T010000
END:DAYLIGHT
BEGIN:STANDARD
TZOFFSETFROM:+0200
TZOFFSETTO:+0100
TZNAME:CET
DTSTART:20251026T010000
END:STANDARD
END:VTIMEZONE
BEGIN:VEVENT
DTSTART;TZID=Europe/Zurich:20241028T140000
DTEND;TZID=Europe/Zurich:20241028T143000
DTSTAMP:20260420T034820
CREATED:20241010T195428Z
LAST-MODIFIED:20241010T202758Z
UID:10000060-1730124000-1730125800@club.groupe-t2i.com
SUMMARY:Webinar Découvrez le nouveau module location de salles de CITIZEN !
DESCRIPTION:Le module Location de salle CITIZEN fait peau neuve. Cette nouvelle solution\, issue d’un partenariat avec la société Ercos SA\, vous sera présentée au travers de cette séance en ligne. Ce webinar s’adresse aux utilisateurs du module actuel de location de salles mais également à tous les utilisateurs de notre solution de gestion communale. \nAu programme : \n\nPrésentation générale\nAvantages et forces de la solution\nDémo live\nPrestations et tarifs\nPassage à la nouvelle version\nQuestion & Réponses\n\n  \nSéance d’information animée par Samuel FOURNIER\, Product Manager de CITIZEN.
URL:https://club.groupe-t2i.com/event/webinar-location-salles/
LOCATION:En ligne
ATTACH;FMTTYPE=image/png:https://club.groupe-t2i.com/wp-content/uploads/2024/03/webinaire-club-utilisateurs-groupe-t2i-synergies.png
END:VEVENT
BEGIN:VEVENT
DTSTART;TZID=Europe/Zurich:20241029T140000
DTEND;TZID=Europe/Zurich:20241029T170000
DTSTAMP:20260420T034820
CREATED:20240925T080602Z
LAST-MODIFIED:20240925T081312Z
UID:10000041-1730210400-1730221200@club.groupe-t2i.com
SUMMARY:FORMATIONS - CITIZEN - Gestion communale : Liste paramétrées - Sierre
DESCRIPTION:Infos Générales \n\nDurée : 1/2 journée (14h00 – 17h00)\nSalle : Locaux du Groupe T2i Sierre – Salle Bis-trop\nPopulation cible : Utilisateurs Gestion Communale \nDélai d’inscription : Une semaine avant la date du cours\nPrix : CHF 250.– hors TVA par personne (non payant pour les communes ayant cette prestation comprise dans leur contrat)\n\n\n\nContenu de la formation \n\nLes principales fonctionnalités (sélection des habitants\, résultat de la sélection\, édition des données)\nLes notions avancées (critères de sélection\, domaines\, relation entre sélection et édition)\nPlage de numéros\nImportation avec les outils bureautique Microsoft Word et ExcelDivers\, Questions – Réponses\n\nLors de cette formation\, nous pourrons aborder des cas concrets de listes paramétrées que vous désirez mettre en œuvre dans votre commune. Pour ce faire\, prière de nous transmettre votre demande au préalable\, soit 1 mois avant la date de votre formation\, à l’adresse suivante : info@www.groupe-t2i.com . \n  \nConditions générales \nEn cas d’empêchement du participant prévu\, un remplaçant peut être substitué sans frais\, à condition d’en aviser le Groupe T2i. Les inscriptions peuvent être retirées sans frais\, au plus tard 15 jours avant la date du cours. Passé ce délai\, la finance de cours pour les communes non-centralisées reste acquise au Groupe T2i. Le Groupe T2i se réserve le droit de reporter et / ou d’annuler d’un cours. \nEn soumettant ce formulaire\, vous consentez au traitement de vos données personnelles qui ne seront utilisées que dans le seul cadre de votre demande. Vos droits d’accès et le moyen pour les exercer sont mentionnés dans notre déclaration de protection des données.
URL:https://club.groupe-t2i.com/event/gestion-communale-liste-parametrees-odgi/
LOCATION:Valais
ATTACH;FMTTYPE=image/jpeg:https://club.groupe-t2i.com/wp-content/uploads/2024/03/formation-club-utilisateurs-aout.jpg
END:VEVENT
BEGIN:VEVENT
DTSTART;TZID=Europe/Zurich:20241031T100000
DTEND;TZID=Europe/Zurich:20241031T123000
DTSTAMP:20260420T034820
CREATED:20241009T103230Z
LAST-MODIFIED:20241015T150258Z
UID:10000058-1730368800-1730377800@club.groupe-t2i.com
SUMMARY:Inauguration du nouveau Datacenter du Groupe T2i - Crissier
DESCRIPTION:Nous avons le plaisir de vous inviter à l’inauguration de notre nouveau Datacenter  principal du Groupe T2i basé à Crissier qui se déroulera en présence de nos clients et partenaires privilégiés.   \nLe Jeudi 31 octobre à 10h \nAu Centre de Conférences MILLENNIUM l Crissier \nCette inauguration sera l’occasion de revenir sur les étapes clés de ce projet\, baptisé projet Odin\, et de vous exposer les avantages offerts à nos clients. Vous aurez également l’opportunité de visiter les coulisses de Brainserve\, un datacenter de type Tier IV reconnu pour ses standards de sécurité les plus élevés\, et de découvrir en exclusivité nos nouvelles infrastructures hébergées par notre partenaire ISP Solutions.  \nNous aurons l’honneur de compter parmi nous divers invités dont M. Laurent Bovay\, Syndic de la Commune de Crissier. \n  \nPROGRAMME  \n\n10h00 : Café d’accueil  \n10h10 : Mot de bienvenue et présentations \n10h35 : Visite du nouveau Datacenter du Groupe T2i  \n11h30 – Apéritif dinatoire \n12h30 – Fin \n\n  \nLe projet ODIN : une nouvelle ère pour la sécurité et la résilience de vos données   \nEn 2023\, le Groupe T2i a lancé un projet ambitieux visant à renforcer la résilience\, la sécurité et la performance de notre Cloud : le projet Odin. Un investissement de plus d’un million de francs a permis de transférer notre site principal à Crissier\, de moderniser entièrement nos infrastructures\, et d’optimiser les mécanismes de réplication.   \nCe nom de projet n’a pas été choisi par hasard. Inspiré de la mythologie nordique\, Odin symbolise la sagesse\, la puissance et la protection\, des attributs parfaitement en phase avec les valeurs que nous voulons incarner dans la gestion de vos données. Ce choix reflète notre engagement à offrir un service à la fois robuste et fiable\, où la sécurité et la performance sont au cœur de nos priorités.  \nÀ ce jour\, toutes les données de nos clients ont été migrées sans interruption de service. Brainserve\, l’un des trois meilleurs datacenters en Suisse\, devient désormais notre site principal\, un véritable bastion pour nos environnements. Le site secondaire se situe\, quant à lui\, à Sierre\, assurant une redondance optimale et une continuité de service renforcée.  \n  \nLe nombre de places étant limité\, nous vous remercions de bien vouloir limiter la participation à une personne par organisation. 
URL:https://club.groupe-t2i.com/event/inauguration-datacenter-crissier/
LOCATION:Crissier
ATTACH;FMTTYPE=image/png:https://club.groupe-t2i.com/wp-content/uploads/2024/03/EVENTclub-utilisateurs-groupe-t2i-synergies.png
END:VEVENT
END:VCALENDAR