BEGIN:VCALENDAR
VERSION:2.0
PRODID:-//Club Synergies - Groupe t2i - ECPv6.15.15//NONSGML v1.0//EN
CALSCALE:GREGORIAN
METHOD:PUBLISH
X-WR-CALNAME:Club Synergies - Groupe t2i
X-ORIGINAL-URL:https://club.groupe-t2i.com
X-WR-CALDESC:Évènements pour Club Synergies - Groupe t2i
REFRESH-INTERVAL;VALUE=DURATION:PT1H
X-Robots-Tag:noindex
X-PUBLISHED-TTL:PT1H
BEGIN:VTIMEZONE
TZID:Europe/Zurich
BEGIN:DAYLIGHT
TZOFFSETFROM:+0100
TZOFFSETTO:+0200
TZNAME:CEST
DTSTART:20240331T010000
END:DAYLIGHT
BEGIN:STANDARD
TZOFFSETFROM:+0200
TZOFFSETTO:+0100
TZNAME:CET
DTSTART:20241027T010000
END:STANDARD
BEGIN:DAYLIGHT
TZOFFSETFROM:+0100
TZOFFSETTO:+0200
TZNAME:CEST
DTSTART:20250330T010000
END:DAYLIGHT
BEGIN:STANDARD
TZOFFSETFROM:+0200
TZOFFSETTO:+0100
TZNAME:CET
DTSTART:20251026T010000
END:STANDARD
BEGIN:DAYLIGHT
TZOFFSETFROM:+0100
TZOFFSETTO:+0200
TZNAME:CEST
DTSTART:20260329T010000
END:DAYLIGHT
BEGIN:STANDARD
TZOFFSETFROM:+0200
TZOFFSETTO:+0100
TZNAME:CET
DTSTART:20261025T010000
END:STANDARD
END:VTIMEZONE
BEGIN:VEVENT
DTSTART;TZID=Europe/Zurich:20250408T110000
DTEND;TZID=Europe/Zurich:20250408T113000
DTSTAMP:20260421T183503
CREATED:20250324T142506Z
LAST-MODIFIED:20250324T142701Z
UID:10000077-1744110000-1744111800@club.groupe-t2i.com
SUMMARY:Webinar - Simplifiez votre conformité à la protection des données avec Rumya
DESCRIPTION:La protection des données est un enjeu majeur\, notamment avec l’évolution progressive des lois cantonales qui impactent les administrations communales. Pour vous aider à naviguer sereinement dans ces changements\, nous vous proposons une solution efficace et adaptée. Participez à cette session en ligne et découvrez Rumya\, notre partenaire\, qui met à votre disposition des outils digitaux pour vous accompagner pas à pas dans votre mise en conformité sur le sujet de la protection des données. \nInscrivez-vous dès maintenant ! \n  \nCette séance sera co-animée par Gilles Farvacques\, Rumya et Samuel Fournier\, Groupe T2i.  \n  \n 
URL:https://club.groupe-t2i.com/event/webinar-protection-donnees/
LOCATION:En ligne
ATTACH;FMTTYPE=image/png:https://club.groupe-t2i.com/wp-content/uploads/2024/03/webinaire-club-utilisateurs-groupe-t2i-synergies.png
END:VEVENT
BEGIN:VEVENT
DTSTART;TZID=Europe/Zurich:20250414T093000
DTEND;TZID=Europe/Zurich:20250414T120000
DTSTAMP:20260421T183503
CREATED:20250319T103624Z
LAST-MODIFIED:20250327T070714Z
UID:10000076-1744623000-1744632000@club.groupe-t2i.com
SUMMARY:Atelier de travail : Gestion communale pour les communes fribourgeoises
DESCRIPTION:L’objectif de cet atelier est de vous présenter les évolutions prévues sur votre module de gestion communale. En tant qu’utilisateur de la solution vous aurez l’occasion d’indiquer les priorités les plus pertinentes. \nNous vous donnons rendez-vous à Villars-sur-Glâne pour participer à cet atelier. Au préalable\, nous vous invitons à renseigner un questionnaire en ligne\, qui nous permettra de préparer au mieux cette rencontre. \nProgramme \n\n09h30 – 10h00 : Accueil café\n10h00 – 12h00 : Atelier : Roadmap 2025/2026\, Adaptations légales de la gestion communale\, Nouveautés de la gestion communale
URL:https://club.groupe-t2i.com/event/atelier-de-travail-gestion-communale-pour-les-communes-fribourgeoises/
LOCATION:Villars-sur-Glâne
ATTACH;FMTTYPE=image/png:https://club.groupe-t2i.com/wp-content/uploads/2024/03/petit-dej-club-utilisateurs-groupe-t2i-synergies.png
END:VEVENT
END:VCALENDAR