BEGIN:VCALENDAR
VERSION:2.0
PRODID:-//Club Synergies - Groupe t2i - ECPv6.15.15//NONSGML v1.0//EN
CALSCALE:GREGORIAN
METHOD:PUBLISH
X-ORIGINAL-URL:https://club.groupe-t2i.com
X-WR-CALDESC:Évènements pour Club Synergies - Groupe t2i
REFRESH-INTERVAL;VALUE=DURATION:PT1H
X-Robots-Tag:noindex
X-PUBLISHED-TTL:PT1H
BEGIN:VTIMEZONE
TZID:Europe/Zurich
BEGIN:DAYLIGHT
TZOFFSETFROM:+0100
TZOFFSETTO:+0200
TZNAME:CEST
DTSTART:20230326T010000
END:DAYLIGHT
BEGIN:STANDARD
TZOFFSETFROM:+0200
TZOFFSETTO:+0100
TZNAME:CET
DTSTART:20231029T010000
END:STANDARD
BEGIN:DAYLIGHT
TZOFFSETFROM:+0100
TZOFFSETTO:+0200
TZNAME:CEST
DTSTART:20240331T010000
END:DAYLIGHT
BEGIN:STANDARD
TZOFFSETFROM:+0200
TZOFFSETTO:+0100
TZNAME:CET
DTSTART:20241027T010000
END:STANDARD
BEGIN:DAYLIGHT
TZOFFSETFROM:+0100
TZOFFSETTO:+0200
TZNAME:CEST
DTSTART:20250330T010000
END:DAYLIGHT
BEGIN:STANDARD
TZOFFSETFROM:+0200
TZOFFSETTO:+0100
TZNAME:CET
DTSTART:20251026T010000
END:STANDARD
END:VTIMEZONE
BEGIN:VEVENT
DTSTART;TZID=Europe/Zurich:20241105T140000
DTEND;TZID=Europe/Zurich:20241105T170000
DTSTAMP:20260419T212837
CREATED:20240925T082935Z
LAST-MODIFIED:20240925T082935Z
UID:10000042-1730815200-1730826000@club.groupe-t2i.com
SUMMARY:FORMATIONS – CITIZEN - Facturation diverse – Sierre
DESCRIPTION:Infos Générales \n\nDurée : 1/2 journée (14h00 – 17h00)\nSalle : Locaux du Groupe T2i Sierre – Salle Bis-trop\nPopulation cible : Nouvel utilisateur \nDélai d’inscription : Une semaine avant la date du cours\nPrix : CHF 250.– hors TVA par personne (non payant pour les communes ayant cette prestation comprise dans leur contrat)\n\nContenu de la formation \nTravail dans l’environnement du client \n\nGénéralités et intégrations\nSaisie des factures\nTraitement d’une seule facture\nParamétrage Genre de facture (rubrique\, données générale\, entête\, article\, …)\nProcessus de transfert en finance\nReprise de l’historique\nQuestions – Réponses\n\n\n\nConditions générales \nEn cas d’empêchement du participant prévu\, un remplaçant peut être substitué sans frais\, à condition d’en aviser le Groupe T2i. Les inscriptions peuvent être retirées sans frais\, au plus tard 15 jours avant la date du cours. Passé ce délai\, la finance de cours pour les communes non-centralisées reste acquise au Groupe T2i. Le Groupe T2i se réserve le droit de reporter et / ou d’annuler d’un cours. \nEn soumettant ce formulaire\, vous consentez au traitement de vos données personnelles qui ne seront utilisées que dans le seul cadre de votre demande. Vos droits d’accès et le moyen pour les exercer sont mentionnés dans notre déclaration de protection des données.
URL:https://club.groupe-t2i.com/event/formations-citizen-facturation-diverse-sierre/
LOCATION:Valais
ATTACH;FMTTYPE=image/jpeg:https://club.groupe-t2i.com/wp-content/uploads/2024/03/formation-club-utilisateurs-aout.jpg
END:VEVENT
BEGIN:VEVENT
DTSTART;TZID=Europe/Zurich:20241114T083000
DTEND;TZID=Europe/Zurich:20241114T120000
DTSTAMP:20260419T212837
CREATED:20240930T140440Z
LAST-MODIFIED:20241001T064924Z
UID:10000053-1731573000-1731585600@club.groupe-t2i.com
SUMMARY:FORMATIONS – XpertCadastre –  Fiscalité  - Sierre
DESCRIPTION:Infos Générales \n\nDurée : 1/2 journée (08h30 – 12h00)\nSalle : Locaux du Groupe T2i Sierre – Salle Bis-trop\nPopulation cible : Utilisateur gestion du cadastre et fiscalité\nDélai d’inscription : Une semaine avant la date du cours\nPrix : CHF 250.– hors TVA par personne (non payant pour les communes ayant cette prestation comprise dans leur contrat)\n\nContenu de la formation \n\nGestion de la fiscalité\n\n\n\nGénération des valeurs fiscales\nGénération et contrôle des listes d’erreur\nCommunications à l’Etat du Valais\nImpression des registres des contribuables\nCorrections hors-communes\nClôture d’un lot\nLiens avec l’application Contributions et Contrôle des habitants\n\n\n\n\nQuestions & réponses\n\n\n\nConditions générales \nEn cas d’empêchement du participant prévu\, un remplaçant peut être substitué sans frais\, à condition d’en aviser le Groupe T2i. Les inscriptions peuvent être retirées sans frais\, au plus tard 15 jours avant la date du cours. Passé ce délai\, la finance de cours pour les communes non-centralisées reste acquise au Groupe T2i. Le Groupe T2i se réserve le droit de reporter et / ou d’annuler d’un cours. \nEn soumettant ce formulaire\, vous consentez au traitement de vos données personnelles qui ne seront utilisées que dans le seul cadre de votre demande. Vos droits d’accès et le moyen pour les exercer sont mentionnés dans notre déclaration de protection des données.
URL:https://club.groupe-t2i.com/event/formations-citizen-xpertcadastre-fiscalite/
LOCATION:Valais
ATTACH;FMTTYPE=image/jpeg:https://club.groupe-t2i.com/wp-content/uploads/2024/03/formation-club-utilisateurs-aout.jpg
END:VEVENT
BEGIN:VEVENT
DTSTART;TZID=Europe/Zurich:20241126T083000
DTEND;TZID=Europe/Zurich:20241126T120000
DTSTAMP:20260419T212837
CREATED:20241004T072022Z
LAST-MODIFIED:20241004T072836Z
UID:10000054-1732609800-1732622400@club.groupe-t2i.com
SUMMARY:FORMATIONS – HRM/HRCafé – Bouclement annuel des salaires et démarrage nouvelle année
DESCRIPTION:Infos Générales \n\nDurée : 1/2 journée (08h30 – 12h00)\nSalle : Locaux du Groupe T2i Sierre – Salle Bis-trop\nPopulation cible : Utilisateur expérimenté Xpert.HRM ou HRCafé\nDélai d’inscription : Une semaine avant la date du cours\nPrix : CHF 250.– hors TVA par personne (non payant pour les communes ayant cette prestation comprise dans leur contrat)\n\nContenu de la formation \n\nBouclement annuel\nGénération des déclarations de salaire SwissDec (PUCS)\nRapports annuels entreprises\nAdaptations 2025\nModification paramètres (Taux Ass. Soc\, Montants AF\, Plafond LPP\, etc.)\nMise à jour tabelles IS\nPrincipales nouveautés HRM-HRCafé 2025\n\nPour les clients hébergés dans nos DataCenters\, vous pourrez mettre à jour directement les paramètres et taux sur votre environnement. \n\n\nConditions générales \nEn cas d’empêchement du participant prévu\, un remplaçant peut être substitué sans frais\, à condition d’en aviser le Groupe T2i. Les inscriptions peuvent être retirées sans frais\, au plus tard 15 jours avant la date du cours. Passé ce délai\, la finance de cours pour les communes non-centralisées reste acquise au Groupe T2i. Le Groupe T2i se réserve le droit de reporter et / ou d’annuler d’un cours. \nEn soumettant ce formulaire\, vous consentez au traitement de vos données personnelles qui ne seront utilisées que dans le seul cadre de votre demande. Vos droits d’accès et le moyen pour les exercer sont mentionnés dans notre déclaration de protection des données.
URL:https://club.groupe-t2i.com/event/hrm-hrcafe-bouclement-annuel-des-salaires-et-demarrage-nouvelle-annee/
LOCATION:Valais
ATTACH;FMTTYPE=image/jpeg:https://club.groupe-t2i.com/wp-content/uploads/2024/03/formation-club-utilisateurs-aout.jpg
END:VEVENT
BEGIN:VEVENT
DTSTART;TZID=Europe/Zurich:20241128T083000
DTEND;TZID=Europe/Zurich:20241128T120000
DTSTAMP:20260419T212837
CREATED:20241029T122852Z
LAST-MODIFIED:20241029T122852Z
UID:10000061-1732782600-1732795200@club.groupe-t2i.com
SUMMARY:FORMATIONS – HRM/HRCafé – Bouclement annuel des salaires et démarrage nouvelle année
DESCRIPTION:Infos Générales \n\nDurée : 1/2 journée (08h30 – 12h00)\nSalle : Locaux du Groupe T2i Sierre – Salle Bis-trop\nPopulation cible : Utilisateur expérimenté Xpert.HRM ou HRCafé\nDélai d’inscription : Une semaine avant la date du cours\nPrix : CHF 250.– hors TVA par personne (non payant pour les communes ayant cette prestation comprise dans leur contrat)\n\nContenu de la formation \n\nBouclement annuel\nGénération des déclarations de salaire SwissDec (PUCS)\nRapports annuels entreprises\nAdaptations 2025\nModification paramètres (Taux Ass. Soc\, Montants AF\, Plafond LPP\, etc.)\nMise à jour tabelles IS\nPrincipales nouveautés HRM-HRCafé 2025\n\nPour les clients hébergés dans nos DataCenters\, vous pourrez mettre à jour directement les paramètres et taux sur votre environnement. \n\n\nConditions générales \nEn cas d’empêchement du participant prévu\, un remplaçant peut être substitué sans frais\, à condition d’en aviser le Groupe T2i. Les inscriptions peuvent être retirées sans frais\, au plus tard 15 jours avant la date du cours. Passé ce délai\, la finance de cours pour les communes non-centralisées reste acquise au Groupe T2i. Le Groupe T2i se réserve le droit de reporter et / ou d’annuler d’un cours. \nEn soumettant ce formulaire\, vous consentez au traitement de vos données personnelles qui ne seront utilisées que dans le seul cadre de votre demande. Vos droits d’accès et le moyen pour les exercer sont mentionnés dans notre déclaration de protection des données.
URL:https://club.groupe-t2i.com/event/formations-hrm-hrcafe-bouclement-annuel-des-salaires/
LOCATION:Valais
ATTACH;FMTTYPE=image/jpeg:https://club.groupe-t2i.com/wp-content/uploads/2024/03/formation-club-utilisateurs-aout.jpg
END:VEVENT
END:VCALENDAR