BEGIN:VCALENDAR
VERSION:2.0
PRODID:-//Club Synergies - Groupe t2i - ECPv6.15.15//NONSGML v1.0//EN
CALSCALE:GREGORIAN
METHOD:PUBLISH
X-WR-CALNAME:Club Synergies - Groupe t2i
X-ORIGINAL-URL:https://club.groupe-t2i.com
X-WR-CALDESC:Évènements pour Club Synergies - Groupe t2i
REFRESH-INTERVAL;VALUE=DURATION:PT1H
X-Robots-Tag:noindex
X-PUBLISHED-TTL:PT1H
BEGIN:VTIMEZONE
TZID:Europe/Zurich
BEGIN:DAYLIGHT
TZOFFSETFROM:+0100
TZOFFSETTO:+0200
TZNAME:CEST
DTSTART:20230326T010000
END:DAYLIGHT
BEGIN:STANDARD
TZOFFSETFROM:+0200
TZOFFSETTO:+0100
TZNAME:CET
DTSTART:20231029T010000
END:STANDARD
BEGIN:DAYLIGHT
TZOFFSETFROM:+0100
TZOFFSETTO:+0200
TZNAME:CEST
DTSTART:20240331T010000
END:DAYLIGHT
BEGIN:STANDARD
TZOFFSETFROM:+0200
TZOFFSETTO:+0100
TZNAME:CET
DTSTART:20241027T010000
END:STANDARD
BEGIN:DAYLIGHT
TZOFFSETFROM:+0100
TZOFFSETTO:+0200
TZNAME:CEST
DTSTART:20250330T010000
END:DAYLIGHT
BEGIN:STANDARD
TZOFFSETFROM:+0200
TZOFFSETTO:+0100
TZNAME:CET
DTSTART:20251026T010000
END:STANDARD
END:VTIMEZONE
BEGIN:VEVENT
DTSTART;TZID=Europe/Zurich:20240910T081500
DTEND;TZID=Europe/Zurich:20240910T100000
DTSTAMP:20260420T053541
CREATED:20240329T072312Z
LAST-MODIFIED:20240716T062340Z
UID:10000022-1725956100-1725962400@club.groupe-t2i.com
SUMMARY:Petit-déjeuner Clients - Fribourg
DESCRIPTION:Petits déjeuners Clients – Fribourg\nNous vous attendons au Théâtre de l’Equilibre à Fribourg pour un petit-déjeuner qui aura pour objectif de vous donner des informations sur vos produits et d’échanger avec nos équipes. \nIl nous tient à cœur de rencontrer régulièrement nos clients afin de mieux comprendre vos besoins et recueillir vos feedback utilisateurs. Nous sommes heureux de vous convier à nos petits-déjeuners clients. Propices aux échanges avec nos équipes (commerciales\, produits\, service\, support) et entre utilisateurs de nos solutions\, ces rencontres sont proposées sur plusieurs dates et lieux selon votre convenance :  \n\nLe 5 décembre à Sierre\nLe 25 juin à Renens\nLe 10 septembre à Fribourg (inscription ci-dessous)\n\nInscrivez-vous sans attendre ! Nous nous réjouissions de vous rencontrer.  \n  \nProgramme   \n08h15 : Accueil café   \n08h30 : Présentation   \n\nMot de bienvenue de la Direction  \nNouveautés produit à venir et retours sur les ateliers utilisateurs concernant MCH2 et la gestion communale\nMise à jour de notre infrastructure informatique : Présentation du projet et avantages pour nos clients\nSynergies\, le Club utilisateur des solutions du Groupe T2i  \n\n09h15 : Echanges\, café et viennoiseries \n10h00 : Fin
URL:https://club.groupe-t2i.com/event/petit-dej-clients-fribourg/
LOCATION:Canton Fribourg
ATTACH;FMTTYPE=image/png:https://club.groupe-t2i.com/wp-content/uploads/2024/03/petit-dej-club-utilisateurs-groupe-t2i-synergies.png
END:VEVENT
BEGIN:VEVENT
DTSTART;TZID=Europe/Zurich:20240924T083000
DTEND;TZID=Europe/Zurich:20240924T120000
DTSTAMP:20260420T053541
CREATED:20240820T114238Z
LAST-MODIFIED:20240912T080731Z
UID:10000040-1727166600-1727179200@club.groupe-t2i.com
SUMMARY:FORMATIONS - Dépouillement Conseil Communal et Conseil Général - Sierre
DESCRIPTION:Dépouillement Conseil Communal du 13.10.2024 et Conseil Général du 10.11.2024 \nInfos Générales \n\nDurée : 1/2 journée (08h30-12h00)\nSalle : Locaux du Groupe T2i Sierre – Salle Bis-trop\nPopulation cible : Utilisateurs module Dépouillement – Xpert.Commune (commune VS)\nDélai d’inscription : Une semaine avant la date du cours\nPrix : CHF 250.– hors TVA par personne (non payant pour les communes ayant cette prestation comprise dans leur contrat)\n\n\n\nContenu de la formation\n( le travail sera réalisé dans les environnements clients) \nDans ce cours les thèmes suivants seront abordés :\n\n\n\nParamètres généraux\nGestion des droits utilisateurs\nCréation d’un scrutin\nSaisie des listes compactes\nSaisie des bulletins modifiés\nCalculation et impression des résultats\nQuestions et réponses\n\n\n\nConditions générales \nEn cas d’empêchement du participant prévu\, un remplaçant peut être substitué sans frais\, à condition d’en aviser le Groupe T2i. Les inscriptions peuvent être retirées sans frais\, au plus tard 15 jours avant la date du cours. Passé ce délai\, la finance de cours pour les communes non-centralisées reste acquise au Groupe T2i. Le Groupe T2i se réserve le droit de reporter et / ou d’annuler d’un cours. \nEn soumettant ce formulaire\, vous consentez au traitement de vos données personnelles qui ne seront utilisées que dans le seul cadre de votre demande. Vos droits d’accès et le moyen pour les exercer sont mentionnés dans notre déclaration de protection des données.
URL:https://club.groupe-t2i.com/event/formations-depouillement-conseil-communal-et-conseil-general-sierre/
LOCATION:Valais
ATTACH;FMTTYPE=image/jpeg:https://club.groupe-t2i.com/wp-content/uploads/2024/03/formation-club-utilisateurs-aout.jpg
END:VEVENT
BEGIN:VEVENT
DTSTART;TZID=Europe/Zurich:20240926T083000
DTEND;TZID=Europe/Zurich:20240926T120000
DTSTAMP:20260420T053541
CREATED:20240404T114413Z
LAST-MODIFIED:20240820T124758Z
UID:10000028-1727339400-1727352000@club.groupe-t2i.com
SUMMARY:FORMATIONS - Dépouillement Conseil Communal et Conseil Général - Sierre
DESCRIPTION:Dépouillement Conseil Communal du 13.10.2024 et Conseil Général du 10.11.2024 \nInfos Générales \n\nDurée : 1/2 journée (08h30-12h00)\nSalle : Locaux du Groupe T2i Sierre – Salle Bis-trop\nPopulation cible : Utilisateurs module Dépouillement – Xpert.Commune (commune VS)\nDélai d’inscription : Une semaine avant la date du cours\nPrix : CHF 250.– hors TVA par personne (non payant pour les communes ayant cette prestation comprise dans leur contrat)\n\n\n\nContenu de la formation\n( le travail sera réalisé dans les environnements clients) \nDans ce cours les thèmes suivants seront abordés :\n\n\n\nParamètres généraux\nGestion des droits utilisateurs\nCréation d’un scrutin\nSaisie des listes compactes\nSaisie des bulletins modifiés\nCalculation et impression des résultats\nQuestions et réponses\n\n\n\nConditions générales \nEn cas d’empêchement du participant prévu\, un remplaçant peut être substitué sans frais\, à condition d’en aviser le Groupe T2i. Les inscriptions peuvent être retirées sans frais\, au plus tard 15 jours avant la date du cours. Passé ce délai\, la finance de cours pour les communes non-centralisées reste acquise au Groupe T2i. Le Groupe T2i se réserve le droit de reporter et / ou d’annuler d’un cours. \nEn soumettant ce formulaire\, vous consentez au traitement de vos données personnelles qui ne seront utilisées que dans le seul cadre de votre demande. Vos droits d’accès et le moyen pour les exercer sont mentionnés dans notre déclaration de protection des données.
URL:https://club.groupe-t2i.com/event/formations-citizen-depouillement-conseil-communal-et-conseil-general-sierre/
LOCATION:Valais
ATTACH;FMTTYPE=image/jpeg:https://club.groupe-t2i.com/wp-content/uploads/2024/03/formation-club-utilisateurs-aout.jpg
END:VEVENT
BEGIN:VEVENT
DTSTART;TZID=Europe/Zurich:20240926T110000
DTEND;TZID=Europe/Zurich:20240926T113000
DTSTAMP:20260420T053541
CREATED:20240718T165353Z
LAST-MODIFIED:20240923T070000Z
UID:10000039-1727348400-1727350200@club.groupe-t2i.com
SUMMARY:Webinar Nouveautés produits CITIZEN
DESCRIPTION:Destinée aux utilisateurs de l’application CITIZEN\, cette séance d’information présentera les nouveautés disponibles dans la livraison 24Q3 : \n\nImpôts : Automatismes sur le débiteur en cas de mariage\, séparation\, divorce et partenariat\nImpôts : Traitement des gains spéciaux et des bénéfices de liquidation (VS)\nGestion communale : Suivi des emplois pour les personnes externes\nGestion communale : Mise à jour des codes permis selon la nouvelle version SIMIC V4 et nouvel identifiant Infostar\nGestion communale : Ouverture automatique de Word pour les fusions papier et courrier unitaire\nGestion communale : Mise à disposition des nouveaux caractères spéciaux\nMise à disposition de nouvelles extractions et listes CITIZEN\nMise à jour UNIFACE 10.4\nAutomatisation des livraisons\nErcos : Présentation du module pour la location de salles\nSolution d’accompagnement à la mise en conformité de la Protection des données\n\n  \nSéance d’information animée par Samuel FOURNIER\, Product Manager de CITIZEN et MEETING et Patrick GRANDJEAN\, Chef de projet Services
URL:https://club.groupe-t2i.com/event/webinar-nouveautes-produits-citizen-3/
LOCATION:En ligne
ATTACH;FMTTYPE=image/png:https://club.groupe-t2i.com/wp-content/uploads/2024/03/webinaire-club-utilisateurs-groupe-t2i-synergies.png
END:VEVENT
BEGIN:VEVENT
DTSTART;TZID=Europe/Zurich:20240926T140000
DTEND;TZID=Europe/Zurich:20240926T143000
DTSTAMP:20260420T053541
CREATED:20240718T165223Z
LAST-MODIFIED:20240904T142020Z
UID:10000038-1727359200-1727361000@club.groupe-t2i.com
SUMMARY:Webinar Nouveautés produits MEETING
DESCRIPTION:Destinée aux utilisateurs de l’application MEETING\, cette séance d’information présentera les nouveautés disponibles dans la livraison 24Q3 : \n\nVisualisation des documents de l’ensemble de la séance\nSimplification de la gestion des sous-dossiers\nAmélioration de l’attachement d’un document à un nouveau point à l’ordre du jour\nAmélioration des performances\nTraitement d’une affaire service en séance\n\n  \nSéance d’information animée par Samuel FOURNIER\, Product Manager de CITIZEN et MEETING. \n 
URL:https://club.groupe-t2i.com/event/webinar-nouveautes-produits-meeting-3/
LOCATION:En ligne
ATTACH;FMTTYPE=image/png:https://club.groupe-t2i.com/wp-content/uploads/2024/03/webinaire-club-utilisateurs-groupe-t2i-synergies.png
END:VEVENT
END:VCALENDAR