BEGIN:VCALENDAR
VERSION:2.0
PRODID:-//Club Synergies - Groupe t2i - ECPv6.15.15//NONSGML v1.0//EN
CALSCALE:GREGORIAN
METHOD:PUBLISH
X-WR-CALNAME:Club Synergies - Groupe t2i
X-ORIGINAL-URL:https://club.groupe-t2i.com
X-WR-CALDESC:Évènements pour Club Synergies - Groupe t2i
REFRESH-INTERVAL;VALUE=DURATION:PT1H
X-Robots-Tag:noindex
X-PUBLISHED-TTL:PT1H
BEGIN:VTIMEZONE
TZID:Europe/Zurich
BEGIN:DAYLIGHT
TZOFFSETFROM:+0100
TZOFFSETTO:+0200
TZNAME:CEST
DTSTART:20240331T010000
END:DAYLIGHT
BEGIN:STANDARD
TZOFFSETFROM:+0200
TZOFFSETTO:+0100
TZNAME:CET
DTSTART:20241027T010000
END:STANDARD
BEGIN:DAYLIGHT
TZOFFSETFROM:+0100
TZOFFSETTO:+0200
TZNAME:CEST
DTSTART:20250330T010000
END:DAYLIGHT
BEGIN:STANDARD
TZOFFSETFROM:+0200
TZOFFSETTO:+0100
TZNAME:CET
DTSTART:20251026T010000
END:STANDARD
BEGIN:DAYLIGHT
TZOFFSETFROM:+0100
TZOFFSETTO:+0200
TZNAME:CEST
DTSTART:20260329T010000
END:DAYLIGHT
BEGIN:STANDARD
TZOFFSETFROM:+0200
TZOFFSETTO:+0100
TZNAME:CET
DTSTART:20261025T010000
END:STANDARD
END:VTIMEZONE
BEGIN:VEVENT
DTSTART;TZID=Europe/Zurich:20250121T140000
DTEND;TZID=Europe/Zurich:20250121T170000
DTSTAMP:20260421T103745
CREATED:20241209T084146Z
LAST-MODIFIED:20241209T084205Z
UID:10000067-1737468000-1737478800@club.groupe-t2i.com
SUMMARY:FORMATIONS – Xpert – Contributions Valais - Tranches
DESCRIPTION:Infos Générales \n\nDurée : 1/2 journée (14h00 – 17h00)\nSalle : Locaux du Groupe T2i Sierre – Salle Bis-trop\nPopulation cible : Utilisateur Xpert Impôt Valais\nDélai d’inscription : Une semaine avant la date du cours\nPrix : CHF 250.– hors TVA par personne (non payant pour les communes ayant cette prestation comprise dans leur contrat)\n\nContenu de la formation \n\nInitialisation de l’année de taxation 2025\nMise à jour des paramètres\nGestion des documents\nGénération des tranches\nCorrections et impressions\nQuestions – réponses\n\n\n\nConditions générales \nEn cas d’empêchement du participant prévu\, un remplaçant peut être substitué sans frais\, à condition d’en aviser le Groupe T2i. Les inscriptions peuvent être retirées sans frais\, au plus tard 15 jours avant la date du cours. Passé ce délai\, la finance de cours pour les communes non-centralisées reste acquise au Groupe T2i. Le Groupe T2i se réserve le droit de reporter et / ou d’annuler d’un cours. \nEn soumettant ce formulaire\, vous consentez au traitement de vos données personnelles qui ne seront utilisées que dans le seul cadre de votre demande. Vos droits d’accès et le moyen pour les exercer sont mentionnés dans notre déclaration de protection des données.
URL:https://club.groupe-t2i.com/event/formations-xpert-contributions-valais-tranches/
LOCATION:Valais
ATTACH;FMTTYPE=image/jpeg:https://club.groupe-t2i.com/wp-content/uploads/2024/03/formation-club-utilisateurs-aout.jpg
END:VEVENT
BEGIN:VEVENT
DTSTART;TZID=Europe/Zurich:20250123T100000
DTEND;TZID=Europe/Zurich:20250123T120000
DTSTAMP:20260421T103745
CREATED:20240925T083405Z
LAST-MODIFIED:20250113T094300Z
UID:10000046-1737626400-1737633600@club.groupe-t2i.com
SUMMARY:FORMATIONS – CITIZEN - Gestion communale\, Contrôle de l’habitant VD – Traitement des messages officiels (canton – confédération) - Webinaire
DESCRIPTION:Infos Générales \n\nDurée : 2h (10h00 – 12h00)\nSalle : En ligne\nPopulation cible : Utilisateurs Citizen Gestion communale – contrôle de l’habitants\nPrix : CHF 250.– hors TVA par personne (non payant pour les communes ayant cette prestation comprise dans leur contrat)\n\nContenu de la formation \n\nComment traiter les différents messages officiels du Canton et de la Confédération\nRevue et traitement des messages envoyés et reçu par le Canton et la Confédération (Infostar\, SYMIC\, baseDelivery\, eCH-0093\, eDemenagement\, …)\n\n\n\nConditions générales \nEn cas d’empêchement du participant prévu\, un remplaçant peut être substitué sans frais\, à condition d’en aviser le Groupe T2i. Les inscriptions peuvent être retirées sans frais\, au plus tard 15 jours avant la date du cours. Passé ce délai\, la finance de cours pour les communes non-centralisées reste acquise au Groupe T2i. Le Groupe T2i se réserve le droit de reporter et / ou d’annuler d’un cours. \nEn soumettant ce formulaire\, vous consentez au traitement de vos données personnelles qui ne seront utilisées que dans le seul cadre de votre demande. Vos droits d’accès et le moyen pour les exercer sont mentionnés dans notre déclaration de protection des données.
URL:https://club.groupe-t2i.com/event/formations-citizen-gestion-communale-controle-de-lhabitant-vs-fr-traitement-des-messages-officiels-canton-confederation-webinaire-2/
LOCATION:En ligne
ATTACH;FMTTYPE=image/jpeg:https://club.groupe-t2i.com/wp-content/uploads/2024/03/formation-club-utilisateurs-aout.jpg
END:VEVENT
BEGIN:VEVENT
DTSTART;VALUE=DATE:20250130
DTEND;VALUE=DATE:20250131
DTSTAMP:20260421T103745
CREATED:20241227T105006Z
LAST-MODIFIED:20241227T105401Z
UID:10000068-1738195200-1738281599@club.groupe-t2i.com
SUMMARY:Swiss Digital Conference
DESCRIPTION:Swiss Digital Conference \nOrganisée par le Swiss Digital Center\, la Swiss Digital Conference revient\, le 30 janvier prochain\, pour sa 19ème édition sur le thème « Gagner en productivité dans ma PME grâce au digital ». Pour l’occasion\, le Groupe T2i présentera un cas concret : la mise en place de Youdoc au sein de Magtrol pour le traitement de ses factures fournisseurs. Un événement à ne pas manquer ! \nDécouvrez le programme dans son intégralité sur swissdigitalcenter.ch \nPour recevoir une entrée gratuite\, demandez votre code de réduction à contact@groupe-t2i.com
URL:https://club.groupe-t2i.com/event/sdc2025/
LOCATION:Groupe T2i (Sierre)\, Rue du Technopole 1\, Sierre
ATTACH;FMTTYPE=image/png:https://club.groupe-t2i.com/wp-content/uploads/2024/03/EVENTclub-utilisateurs-groupe-t2i-synergies.png
END:VEVENT
BEGIN:VEVENT
DTSTART;TZID=Europe/Zurich:20250130T140000
DTEND;TZID=Europe/Zurich:20250130T170000
DTSTAMP:20260421T103745
CREATED:20240925T083556Z
LAST-MODIFIED:20250122T081136Z
UID:10000047-1738245600-1738256400@club.groupe-t2i.com
SUMMARY:FORMATIONS – CITIZEN - Contributions Fribourg – Tranches - Renens
DESCRIPTION:Infos Générales \n\nDurée : 1/2 journée (14h00 – 17h00)\nSalle : Locaux du Groupe T2i Renens\nPopulation cible : Utilisateur Citizen Impôts Fribourg\nDélai d’inscription : Une semaine avant la date du cours\nPrix : CHF 250.– hors TVA par personne (non payant pour les communes ayant cette prestation comprise dans leur contrat)\n\nContenu de la formation \n\nInitialisation de l’année de taxation 2025\nMise à jour des paramètres\nGestion des documents\nGénération des tranches\nCorrections et impressions\nQuestions – réponses\n\n\n\nConditions générales \nEn cas d’empêchement du participant prévu\, un remplaçant peut être substitué sans frais\, à condition d’en aviser le Groupe T2i. Les inscriptions peuvent être retirées sans frais\, au plus tard 15 jours avant la date du cours. Passé ce délai\, la finance de cours pour les communes non-centralisées reste acquise au Groupe T2i. Le Groupe T2i se réserve le droit de reporter et / ou d’annuler d’un cours. \nEn soumettant ce formulaire\, vous consentez au traitement de vos données personnelles qui ne seront utilisées que dans le seul cadre de votre demande. Vos droits d’accès et le moyen pour les exercer sont mentionnés dans notre déclaration de protection des données.
URL:https://club.groupe-t2i.com/event/formations-citizen-contributions-fribourg-tranches-sierre/
LOCATION:Groupe T2i (Renens)\, Rue du Caudray 4\, Renens
ATTACH;FMTTYPE=image/jpeg:https://club.groupe-t2i.com/wp-content/uploads/2024/03/formation-club-utilisateurs-aout.jpg
END:VEVENT
BEGIN:VEVENT
DTSTART;TZID=Europe/Zurich:20250204T090000
DTEND;TZID=Europe/Zurich:20250204T120000
DTSTAMP:20260421T103745
CREATED:20240925T083651Z
LAST-MODIFIED:20240925T083651Z
UID:10000048-1738659600-1738670400@club.groupe-t2i.com
SUMMARY:FORMATIONS – CITIZEN - Comptabilité générale – Bouclements - Sierre
DESCRIPTION:Infos Générales \n\nDurée : 1/2 journée (9h00 – 12h00)\nSalle : Locaux du Groupe T2i Sierre – Salle Bis-trop\nPopulation cible : Utilisateur Citizen Finance\nDélai d’inscription : Une semaine avant la date du cours\nPrix : CHF 250.– hors TVA par personne (non payant pour les communes ayant cette prestation comprise dans leur contrat)\n\nContenu de la formation \n\nReport annuel de l’exercice\nReport du Bilan d’ouverture\nReport des budgets\nReport des plans\nTravaux de bouclements\nLes flux transitoires\nVirements des amortissements (prérequis module Projets)\nVirements des comptes d’investissements au bilan\nBouclement définitif des écritures\nQuestions – Réponses\n\n\n\nConditions générales \nEn cas d’empêchement du participant prévu\, un remplaçant peut être substitué sans frais\, à condition d’en aviser le Groupe T2i. Les inscriptions peuvent être retirées sans frais\, au plus tard 15 jours avant la date du cours. Passé ce délai\, la finance de cours pour les communes non-centralisées reste acquise au Groupe T2i. Le Groupe T2i se réserve le droit de reporter et / ou d’annuler d’un cours. \nEn soumettant ce formulaire\, vous consentez au traitement de vos données personnelles qui ne seront utilisées que dans le seul cadre de votre demande. Vos droits d’accès et le moyen pour les exercer sont mentionnés dans notre déclaration de protection des données.
URL:https://club.groupe-t2i.com/event/formations-citizen-comptabilite-generale-bouclements-sierre/
LOCATION:Valais
ATTACH;FMTTYPE=image/jpeg:https://club.groupe-t2i.com/wp-content/uploads/2024/03/formation-club-utilisateurs-aout.jpg
END:VEVENT
BEGIN:VEVENT
DTSTART;TZID=Europe/Zurich:20250213T090000
DTEND;TZID=Europe/Zurich:20250213T120000
DTSTAMP:20260421T103745
CREATED:20241120T112328Z
LAST-MODIFIED:20250206T082521Z
UID:10000062-1739437200-1739448000@club.groupe-t2i.com
SUMMARY:FORMATIONS - Dépouillement Grand Conseil - Sierre
DESCRIPTION:Infos Générales \n\nDurée : 1/2 journée (9h00-12h00)\nSalle : Locaux du Groupe T2i Sierre – Salle Bis-trop\nPopulation cible : Utilisateurs module Dépouillement – Xpert.Commune (commune VS)\nDélai d’inscription : Une semaine avant la date du cours\nPrix : CHF 250.– hors TVA par personne (non payant pour les communes ayant cette prestation comprise dans leur contrat)\n\n\n\nContenu de la formation\n( le travail sera réalisé dans les environnements clients) \nDans ce cours les thèmes suivants seront abordés :\n\n\n\nParamètres généraux\nGestion des droits utilisateurs\nCréation d’un scrutin\nSaisie des listes compactes\nSaisie des bulletins modifiés\nCalculation et impression des résultats\nQuestions et réponses\n\n\n\nConditions générales \nEn cas d’empêchement du participant prévu\, un remplaçant peut être substitué sans frais\, à condition d’en aviser le Groupe T2i. Les inscriptions peuvent être retirées sans frais\, au plus tard 15 jours avant la date du cours. Passé ce délai\, la finance de cours pour les communes non-centralisées reste acquise au Groupe T2i. Le Groupe T2i se réserve le droit de reporter et / ou d’annuler d’un cours. \nEn soumettant ce formulaire\, vous consentez au traitement de vos données personnelles qui ne seront utilisées que dans le seul cadre de votre demande. Vos droits d’accès et le moyen pour les exercer sont mentionnés dans notre déclaration de protection des données.
URL:https://club.groupe-t2i.com/event/formations-depouillement-grand-conseil-sierre/
LOCATION:Valais
ATTACH;FMTTYPE=image/jpeg:https://club.groupe-t2i.com/wp-content/uploads/2024/03/formation-club-utilisateurs-aout.jpg
END:VEVENT
BEGIN:VEVENT
DTSTART;TZID=Europe/Zurich:20250218T090000
DTEND;TZID=Europe/Zurich:20250218T120000
DTSTAMP:20260421T103745
CREATED:20241120T112553Z
LAST-MODIFIED:20250205T091056Z
UID:10000063-1739869200-1739880000@club.groupe-t2i.com
SUMMARY:FORMATIONS - Dépouillement Grand Conseil - Sierre
DESCRIPTION:Infos Générales \n\nDurée : 1/2 journée (9h00-12h00)\nSalle : Locaux du Groupe T2i Sierre – Salle Bis-trop\nPopulation cible : Utilisateurs module Dépouillement – Xpert.Commune (commune VS)\nDélai d’inscription : Une semaine avant la date du cours\nPrix : CHF 250.– hors TVA par personne (non payant pour les communes ayant cette prestation comprise dans leur contrat)\n\n\n\nContenu de la formation\n( le travail sera réalisé dans les environnements clients) \nDans ce cours les thèmes suivants seront abordés :\n\n\n\nParamètres généraux\nGestion des droits utilisateurs\nCréation d’un scrutin\nSaisie des listes compactes\nSaisie des bulletins modifiés\nCalculation et impression des résultats\nQuestions et réponses\n\n\n\nConditions générales \nEn cas d’empêchement du participant prévu\, un remplaçant peut être substitué sans frais\, à condition d’en aviser le Groupe T2i. Les inscriptions peuvent être retirées sans frais\, au plus tard 15 jours avant la date du cours. Passé ce délai\, la finance de cours pour les communes non-centralisées reste acquise au Groupe T2i. Le Groupe T2i se réserve le droit de reporter et / ou d’annuler d’un cours. \nEn soumettant ce formulaire\, vous consentez au traitement de vos données personnelles qui ne seront utilisées que dans le seul cadre de votre demande. Vos droits d’accès et le moyen pour les exercer sont mentionnés dans notre déclaration de protection des données.
URL:https://club.groupe-t2i.com/event/formations-depouillement-grand-conseil-sierre-2/
LOCATION:Valais
ATTACH;FMTTYPE=image/jpeg:https://club.groupe-t2i.com/wp-content/uploads/2024/03/formation-club-utilisateurs-aout.jpg
END:VEVENT
BEGIN:VEVENT
DTSTART;TZID=Europe/Zurich:20250225T090000
DTEND;TZID=Europe/Zurich:20250225T120000
DTSTAMP:20260421T103745
CREATED:20241120T112624Z
LAST-MODIFIED:20250205T093200Z
UID:10000064-1740474000-1740484800@club.groupe-t2i.com
SUMMARY:FORMATIONS - Dépouillement Grand Conseil - Sierre
DESCRIPTION:Infos Générales \n\nDurée : 1/2 journée (9h00-12h00)\nSalle : Locaux du Groupe T2i Sierre – Salle Bis-trop\nPopulation cible : Utilisateurs module Dépouillement – Xpert.Commune (commune VS)\nDélai d’inscription : Une semaine avant la date du cours\nPrix : CHF 250.– hors TVA par personne (non payant pour les communes ayant cette prestation comprise dans leur contrat)\n\n\n\nContenu de la formation\n( le travail sera réalisé dans les environnements clients) \nDans ce cours les thèmes suivants seront abordés :\n\n\n\nParamètres généraux\nGestion des droits utilisateurs\nCréation d’un scrutin\nSaisie des listes compactes\nSaisie des bulletins modifiés\nCalculation et impression des résultats\nQuestions et réponses\n\n\n\nConditions générales \nEn cas d’empêchement du participant prévu\, un remplaçant peut être substitué sans frais\, à condition d’en aviser le Groupe T2i. Les inscriptions peuvent être retirées sans frais\, au plus tard 15 jours avant la date du cours. Passé ce délai\, la finance de cours pour les communes non-centralisées reste acquise au Groupe T2i. Le Groupe T2i se réserve le droit de reporter et / ou d’annuler d’un cours. \nEn soumettant ce formulaire\, vous consentez au traitement de vos données personnelles qui ne seront utilisées que dans le seul cadre de votre demande. Vos droits d’accès et le moyen pour les exercer sont mentionnés dans notre déclaration de protection des données. \n  \nMerci de bien vouloir remplir un formulaire pour chacune des personnes inscrites à la formation. 
URL:https://club.groupe-t2i.com/event/formations-depouillement-grand-conseil-sierre-3/
LOCATION:Valais
ATTACH;FMTTYPE=image/jpeg:https://club.groupe-t2i.com/wp-content/uploads/2024/03/formation-club-utilisateurs-aout.jpg
END:VEVENT
BEGIN:VEVENT
DTSTART;TZID=Europe/Zurich:20250306T140000
DTEND;TZID=Europe/Zurich:20250306T170000
DTSTAMP:20260421T103745
CREATED:20240925T083822Z
LAST-MODIFIED:20240925T083822Z
UID:10000050-1741269600-1741280400@club.groupe-t2i.com
SUMMARY:FORMATIONS – CITIZEN - Contributions Valais – Formation de base part 1/2 - Sierre
DESCRIPTION:Infos Générales \n\nDurée : 1/2 journée (14h00 – 17h00)\nSalle : Locaux du Groupe T2i Sierre – Salle Bis-trop\nPopulation cible : Utilisateur Citizen Impôts Valais\nDélai d’inscription : Une semaine avant la date du cours\nPrix : CHF 250.– hors TVA par personne (non payant pour les communes ayant cette prestation comprise dans leur contrat)\n\nContenu de la formation \n\nDans ce cours les thèmes suivants seront abordés :\nParamètres généraux de l’application\nGestion du registre communal\nImportation des PV\nGestion des bordereaux et des bordereaux correctifs\nParamétrisation des bordereaux\n\n\n\nConditions générales \nEn cas d’empêchement du participant prévu\, un remplaçant peut être substitué sans frais\, à condition d’en aviser le Groupe T2i. Les inscriptions peuvent être retirées sans frais\, au plus tard 15 jours avant la date du cours. Passé ce délai\, la finance de cours pour les communes non-centralisées reste acquise au Groupe T2i. Le Groupe T2i se réserve le droit de reporter et / ou d’annuler d’un cours. \nEn soumettant ce formulaire\, vous consentez au traitement de vos données personnelles qui ne seront utilisées que dans le seul cadre de votre demande. Vos droits d’accès et le moyen pour les exercer sont mentionnés dans notre déclaration de protection des données.
URL:https://club.groupe-t2i.com/event/formations-citizen-contributions-valais-formation-de-base-part-1-2-sierre/
LOCATION:Valais
ATTACH;FMTTYPE=image/jpeg:https://club.groupe-t2i.com/wp-content/uploads/2024/03/formation-club-utilisateurs-aout.jpg
END:VEVENT
END:VCALENDAR