BEGIN:VCALENDAR
VERSION:2.0
PRODID:-//Club Synergies - Groupe t2i - ECPv6.15.15//NONSGML v1.0//EN
CALSCALE:GREGORIAN
METHOD:PUBLISH
X-WR-CALNAME:Club Synergies - Groupe t2i
X-ORIGINAL-URL:https://club.groupe-t2i.com
X-WR-CALDESC:Évènements pour Club Synergies - Groupe t2i
REFRESH-INTERVAL;VALUE=DURATION:PT1H
X-Robots-Tag:noindex
X-PUBLISHED-TTL:PT1H
BEGIN:VTIMEZONE
TZID:Europe/Zurich
BEGIN:DAYLIGHT
TZOFFSETFROM:+0100
TZOFFSETTO:+0200
TZNAME:CEST
DTSTART:20230326T010000
END:DAYLIGHT
BEGIN:STANDARD
TZOFFSETFROM:+0200
TZOFFSETTO:+0100
TZNAME:CET
DTSTART:20231029T010000
END:STANDARD
BEGIN:DAYLIGHT
TZOFFSETFROM:+0100
TZOFFSETTO:+0200
TZNAME:CEST
DTSTART:20240331T010000
END:DAYLIGHT
BEGIN:STANDARD
TZOFFSETFROM:+0200
TZOFFSETTO:+0100
TZNAME:CET
DTSTART:20241027T010000
END:STANDARD
BEGIN:DAYLIGHT
TZOFFSETFROM:+0100
TZOFFSETTO:+0200
TZNAME:CEST
DTSTART:20250330T010000
END:DAYLIGHT
BEGIN:STANDARD
TZOFFSETFROM:+0200
TZOFFSETTO:+0100
TZNAME:CET
DTSTART:20251026T010000
END:STANDARD
END:VTIMEZONE
BEGIN:VEVENT
DTSTART;TZID=Europe/Zurich:20240625T100000
DTEND;TZID=Europe/Zurich:20240625T130000
DTSTAMP:20260423T173357
CREATED:20240605T093434Z
LAST-MODIFIED:20240611T114157Z
UID:10000032-1719309600-1719320400@club.groupe-t2i.com
SUMMARY:Atelier de travail : Le futur de votre portail Citiweb
DESCRIPTION:RENCONTRONS-NOUS !\nAfin de toujours mieux répondre à vos besoins\, nous souhaitons faire évoluer votre portail Citiweb à horizon 2025. \nEn tant qu’utilisateur de la solution\, il nous tient à cœur de récolter vos pratiques d’utilisation ainsi que souhaits d’évolution avant le démarrage des développements cet automne. \nNous vous donnons rendez-vous dans nos locaux de Renens pour participer à cet atelier. \nAu programme \n\n10h00 – 10h15 : Introduction : Rappels sur le périmètre actuel et contexte d’évolution du portail\n10h15 – 11h00 : Workshop SWOT : Forces\, faiblesses\, opportunités et menaces » de l’application actuelle\n11h00 – 11h45 : Brainstorming : propositions de nouvelles fonctionnalités\n11h45 – 12h00 : Conclusion\n12h00 – 13h00 : Apéritif dînatoire
URL:https://club.groupe-t2i.com/event/atelier-de-travail-le-futur-de-votre-portail-citiweb/
LOCATION:Route du Caudray 4\,1020 Renens\, Route du Caudray 4\, Renens\, 1020\, Suisse
ATTACH;FMTTYPE=image/png:https://club.groupe-t2i.com/wp-content/uploads/2024/03/petit-dej-club-utilisateurs-groupe-t2i-synergies.png
END:VEVENT
BEGIN:VEVENT
DTSTART;TZID=Europe/Zurich:20240820T090000
DTEND;TZID=Europe/Zurich:20240820T120000
DTSTAMP:20260423T173357
CREATED:20240329T113112Z
LAST-MODIFIED:20240411T062811Z
UID:10000026-1724144400-1724155200@club.groupe-t2i.com
SUMMARY:FORMATIONS - Citizen - Débiteurs - Formation Avancée Contentieux - Sierre
DESCRIPTION:Infos Générales \n\nDurée : 3heures  (09h-12h)\nSalle : Locaux du Groupe T2i Sierre– Salle Bis-Trop\nDélai d’inscription : Une semaine avant la date du cours\nPrix : CHF 250.– hors TVA par personne (non payant pour les communes ayant cette prestation comprise dans leur contrat)\n\n\n\nContenu de la formation\nDans ce cours les thèmes suivants seront abordés : \n1) Gestion des rappels\n2) Gestion des arrangements\n3) Procédure de poursuite\n4) Questions – Réponses \nConditions générales \nEn cas d’empêchement du participant prévu\, un remplaçant peut être substitué sans frais\, à condition d’en aviser le Groupe T2i. Les inscriptions peuvent être retirées sans frais\, au plus tard 15 jours avant la date du cours. Passé ce délai\, la finance de cours pour les communes non-centralisées reste acquise au Groupe T2i. Le Groupe T2i se réserve le droit de reporter et / ou d’annuler d’un cours. \nEn soumettant ce formulaire\, vous consentez au traitement de vos données personnelles qui ne seront utilisées que dans le seul cadre de votre demande. Vos droits d’accès et le moyen pour les exercer sont mentionnés dans notre déclaration de protection des données.
URL:https://club.groupe-t2i.com/event/formations-debiteurs-formation-avancee-contentieux-sierre/
LOCATION:Valais
ATTACH;FMTTYPE=image/jpeg:https://club.groupe-t2i.com/wp-content/uploads/2024/03/formation-club-utilisateurs-scaled.jpg
END:VEVENT
BEGIN:VEVENT
DTSTART;TZID=Europe/Zurich:20240822T090000
DTEND;TZID=Europe/Zurich:20240822T100000
DTSTAMP:20260423T173357
CREATED:20240711T143143Z
LAST-MODIFIED:20240718T164457Z
UID:10000034-1724317200-1724320800@club.groupe-t2i.com
SUMMARY:WEBINAR - Citizen - Présentation des budgets 2025 / Migration Office 365 - Canton Fribourg
DESCRIPTION:Dédiée aux communes fribourgeoises\, cette séance en ligne se déroulera en deux temps : \n\n30 minutes consacrées à une présentation des éléments à prévoir pour votre budget 2025\n30 minutes pour la présentation de la migration vers Office 365 – Cette partie concerne uniquement les communes hébergées auprès de notre datacenter\n\nNous nous réjouissons de vous retrouvez nombreux.
URL:https://club.groupe-t2i.com/event/webinar-presentations-des-budgets-2025/
LOCATION:Canton Fribourg
ATTACH;FMTTYPE=image/jpeg:https://club.groupe-t2i.com/wp-content/uploads/2024/03/event2.jpg
END:VEVENT
BEGIN:VEVENT
DTSTART;TZID=Europe/Zurich:20240829T090000
DTEND;TZID=Europe/Zurich:20240829T120000
DTSTAMP:20260423T173357
CREATED:20240329T112932Z
LAST-MODIFIED:20240821T130757Z
UID:10000025-1724922000-1724932800@club.groupe-t2i.com
SUMMARY:FORMATIONS - Citizen - Budget - Formation avancée - SIERRE
DESCRIPTION:Infos Générales \n\nDurée : 3heures  (09h-12h)\nSalle : Locaux du Groupe T2i Sierre –  Salle Bistrop\nDélai d’inscription : Une semaine avant la date du cours\nPrix : CHF 250.– hors TVA par personne (non payant pour les communes ayant cette prestation comprise dans leur contrat)\n\n\n\nContenu de la formation\nDans ce cours les thèmes suivants seront abordés : \n1) Création nouvel exercice\n2) Report des budgets d’un exercice à l’autre\n3) Saisie des budgets et positions budgétaires\n4) Interrogation des budgets\n5) Budgets décentralisés (prérequis gestion des utilisateurs spécifiques)\n6) Versions budgétaires\n7) Impressions et exports des budgets\n8) Questions – Réponses \nConditions générales \nEn cas d’empêchement du participant prévu\, un remplaçant peut être substitué sans frais\, à condition d’en aviser le Groupe T2i. Les inscriptions peuvent être retirées sans frais\, au plus tard 15 jours avant la date du cours. Passé ce délai\, la finance de cours pour les communes non-centralisées reste acquise au Groupe T2i. Le Groupe T2i se réserve le droit de reporter et / ou d’annuler d’un cours. \nEn soumettant ce formulaire\, vous consentez au traitement de vos données personnelles qui ne seront utilisées que dans le seul cadre de votre demande. Vos droits d’accès et le moyen pour les exercer sont mentionnés dans notre déclaration de protection des données.
URL:https://club.groupe-t2i.com/event/formations-budget-formation-avancee-renens/
LOCATION:Groupe T2i (Sierre)\, Rue du Technopole 1\, Sierre
ATTACH;FMTTYPE=image/jpeg:https://club.groupe-t2i.com/wp-content/uploads/2024/03/formation-club-utilisateurs-aout.jpg
END:VEVENT
BEGIN:VEVENT
DTSTART;TZID=Europe/Zurich:20240910T081500
DTEND;TZID=Europe/Zurich:20240910T100000
DTSTAMP:20260423T173357
CREATED:20240329T072312Z
LAST-MODIFIED:20240716T062340Z
UID:10000022-1725956100-1725962400@club.groupe-t2i.com
SUMMARY:Petit-déjeuner Clients - Fribourg
DESCRIPTION:Petits déjeuners Clients – Fribourg\nNous vous attendons au Théâtre de l’Equilibre à Fribourg pour un petit-déjeuner qui aura pour objectif de vous donner des informations sur vos produits et d’échanger avec nos équipes. \nIl nous tient à cœur de rencontrer régulièrement nos clients afin de mieux comprendre vos besoins et recueillir vos feedback utilisateurs. Nous sommes heureux de vous convier à nos petits-déjeuners clients. Propices aux échanges avec nos équipes (commerciales\, produits\, service\, support) et entre utilisateurs de nos solutions\, ces rencontres sont proposées sur plusieurs dates et lieux selon votre convenance :  \n\nLe 5 décembre à Sierre\nLe 25 juin à Renens\nLe 10 septembre à Fribourg (inscription ci-dessous)\n\nInscrivez-vous sans attendre ! Nous nous réjouissions de vous rencontrer.  \n  \nProgramme   \n08h15 : Accueil café   \n08h30 : Présentation   \n\nMot de bienvenue de la Direction  \nNouveautés produit à venir et retours sur les ateliers utilisateurs concernant MCH2 et la gestion communale\nMise à jour de notre infrastructure informatique : Présentation du projet et avantages pour nos clients\nSynergies\, le Club utilisateur des solutions du Groupe T2i  \n\n09h15 : Echanges\, café et viennoiseries \n10h00 : Fin
URL:https://club.groupe-t2i.com/event/petit-dej-clients-fribourg/
LOCATION:Canton Fribourg
ATTACH;FMTTYPE=image/png:https://club.groupe-t2i.com/wp-content/uploads/2024/03/petit-dej-club-utilisateurs-groupe-t2i-synergies.png
END:VEVENT
END:VCALENDAR