BEGIN:VCALENDAR
VERSION:2.0
PRODID:-//Club Synergies - Groupe t2i - ECPv6.15.15//NONSGML v1.0//EN
CALSCALE:GREGORIAN
METHOD:PUBLISH
X-WR-CALNAME:Club Synergies - Groupe t2i
X-ORIGINAL-URL:https://club.groupe-t2i.com
X-WR-CALDESC:Évènements pour Club Synergies - Groupe t2i
REFRESH-INTERVAL;VALUE=DURATION:PT1H
X-Robots-Tag:noindex
X-PUBLISHED-TTL:PT1H
BEGIN:VTIMEZONE
TZID:Europe/Zurich
BEGIN:DAYLIGHT
TZOFFSETFROM:+0100
TZOFFSETTO:+0200
TZNAME:CEST
DTSTART:20230326T010000
END:DAYLIGHT
BEGIN:STANDARD
TZOFFSETFROM:+0200
TZOFFSETTO:+0100
TZNAME:CET
DTSTART:20231029T010000
END:STANDARD
BEGIN:DAYLIGHT
TZOFFSETFROM:+0100
TZOFFSETTO:+0200
TZNAME:CEST
DTSTART:20240331T010000
END:DAYLIGHT
BEGIN:STANDARD
TZOFFSETFROM:+0200
TZOFFSETTO:+0100
TZNAME:CET
DTSTART:20241027T010000
END:STANDARD
BEGIN:DAYLIGHT
TZOFFSETFROM:+0100
TZOFFSETTO:+0200
TZNAME:CEST
DTSTART:20250330T010000
END:DAYLIGHT
BEGIN:STANDARD
TZOFFSETFROM:+0200
TZOFFSETTO:+0100
TZNAME:CET
DTSTART:20251026T010000
END:STANDARD
END:VTIMEZONE
BEGIN:VEVENT
DTSTART;TZID=Europe/Zurich:20240625T100000
DTEND;TZID=Europe/Zurich:20240625T130000
DTSTAMP:20260423T172406
CREATED:20240605T093434Z
LAST-MODIFIED:20240611T114157Z
UID:10000032-1719309600-1719320400@club.groupe-t2i.com
SUMMARY:Atelier de travail : Le futur de votre portail Citiweb
DESCRIPTION:RENCONTRONS-NOUS !\nAfin de toujours mieux répondre à vos besoins\, nous souhaitons faire évoluer votre portail Citiweb à horizon 2025. \nEn tant qu’utilisateur de la solution\, il nous tient à cœur de récolter vos pratiques d’utilisation ainsi que souhaits d’évolution avant le démarrage des développements cet automne. \nNous vous donnons rendez-vous dans nos locaux de Renens pour participer à cet atelier. \nAu programme \n\n10h00 – 10h15 : Introduction : Rappels sur le périmètre actuel et contexte d’évolution du portail\n10h15 – 11h00 : Workshop SWOT : Forces\, faiblesses\, opportunités et menaces » de l’application actuelle\n11h00 – 11h45 : Brainstorming : propositions de nouvelles fonctionnalités\n11h45 – 12h00 : Conclusion\n12h00 – 13h00 : Apéritif dînatoire
URL:https://club.groupe-t2i.com/event/atelier-de-travail-le-futur-de-votre-portail-citiweb/
LOCATION:Route du Caudray 4\,1020 Renens\, Route du Caudray 4\, Renens\, 1020\, Suisse
ATTACH;FMTTYPE=image/png:https://club.groupe-t2i.com/wp-content/uploads/2024/03/petit-dej-club-utilisateurs-groupe-t2i-synergies.png
END:VEVENT
END:VCALENDAR