BEGIN:VCALENDAR
VERSION:2.0
PRODID:-//Club Synergies - Groupe t2i - ECPv6.15.15//NONSGML v1.0//EN
CALSCALE:GREGORIAN
METHOD:PUBLISH
X-ORIGINAL-URL:https://club.groupe-t2i.com
X-WR-CALDESC:Évènements pour Club Synergies - Groupe t2i
REFRESH-INTERVAL;VALUE=DURATION:PT1H
X-Robots-Tag:noindex
X-PUBLISHED-TTL:PT1H
BEGIN:VTIMEZONE
TZID:Europe/Zurich
BEGIN:DAYLIGHT
TZOFFSETFROM:+0100
TZOFFSETTO:+0200
TZNAME:CEST
DTSTART:20240331T010000
END:DAYLIGHT
BEGIN:STANDARD
TZOFFSETFROM:+0200
TZOFFSETTO:+0100
TZNAME:CET
DTSTART:20241027T010000
END:STANDARD
BEGIN:DAYLIGHT
TZOFFSETFROM:+0100
TZOFFSETTO:+0200
TZNAME:CEST
DTSTART:20250330T010000
END:DAYLIGHT
BEGIN:STANDARD
TZOFFSETFROM:+0200
TZOFFSETTO:+0100
TZNAME:CET
DTSTART:20251026T010000
END:STANDARD
BEGIN:DAYLIGHT
TZOFFSETFROM:+0100
TZOFFSETTO:+0200
TZNAME:CEST
DTSTART:20260329T010000
END:DAYLIGHT
BEGIN:STANDARD
TZOFFSETFROM:+0200
TZOFFSETTO:+0100
TZNAME:CET
DTSTART:20261025T010000
END:STANDARD
END:VTIMEZONE
BEGIN:VEVENT
DTSTART;TZID=Europe/Zurich:20250328T093000
DTEND;TZID=Europe/Zurich:20250328T120000
DTSTAMP:20260425T125458
CREATED:20250220T155512Z
LAST-MODIFIED:20250318T102100Z
UID:10000071-1743154200-1743163200@club.groupe-t2i.com
SUMMARY:Atelier de travail : Gestion communale pour les communes valaisannes
DESCRIPTION:L’objectif de cet atelier est de vous présenter les évolutions prévues sur votre module de gestion communale. En tant qu’utilisateur de la solution vous aurez l’occasion d’indiquer les priorités les plus pertinentes. \nNous vous donnons rendez-vous dans nos locaux de Sierre pour participer à cet atelier. Au préalable\, nous vous invitons à renseigner un questionnaire en ligne\, qui nous permettra de préparer au mieux cette rencontre. \nProgramme \n\n09h30 – 10h00 : Accueil café\n10h00 – 12h00 : Atelier : Roadmap 2025/2026\, Adaptations légales de la gestion communale\, Nouveautés de la gestion communale
URL:https://club.groupe-t2i.com/event/atelier-de-travail-gestion-communale/
LOCATION:Groupe T2i (Sierre)\, Rue du Technopole 1\, Sierre
ATTACH;FMTTYPE=image/png:https://club.groupe-t2i.com/wp-content/uploads/2024/03/petit-dej-club-utilisateurs-groupe-t2i-synergies.png
END:VEVENT
END:VCALENDAR