BEGIN:VCALENDAR
VERSION:2.0
PRODID:-//Club Synergies - Groupe t2i - ECPv6.15.15//NONSGML v1.0//EN
CALSCALE:GREGORIAN
METHOD:PUBLISH
X-WR-CALNAME:Club Synergies - Groupe t2i
X-ORIGINAL-URL:https://club.groupe-t2i.com
X-WR-CALDESC:Évènements pour Club Synergies - Groupe t2i
REFRESH-INTERVAL;VALUE=DURATION:PT1H
X-Robots-Tag:noindex
X-PUBLISHED-TTL:PT1H
BEGIN:VTIMEZONE
TZID:Europe/Zurich
BEGIN:DAYLIGHT
TZOFFSETFROM:+0100
TZOFFSETTO:+0200
TZNAME:CEST
DTSTART:20240331T010000
END:DAYLIGHT
BEGIN:STANDARD
TZOFFSETFROM:+0200
TZOFFSETTO:+0100
TZNAME:CET
DTSTART:20241027T010000
END:STANDARD
BEGIN:DAYLIGHT
TZOFFSETFROM:+0100
TZOFFSETTO:+0200
TZNAME:CEST
DTSTART:20250330T010000
END:DAYLIGHT
BEGIN:STANDARD
TZOFFSETFROM:+0200
TZOFFSETTO:+0100
TZNAME:CET
DTSTART:20251026T010000
END:STANDARD
BEGIN:DAYLIGHT
TZOFFSETFROM:+0100
TZOFFSETTO:+0200
TZNAME:CEST
DTSTART:20260329T010000
END:DAYLIGHT
BEGIN:STANDARD
TZOFFSETFROM:+0200
TZOFFSETTO:+0100
TZNAME:CET
DTSTART:20261025T010000
END:STANDARD
END:VTIMEZONE
BEGIN:VEVENT
DTSTART;TZID=Europe/Zurich:20250327T110000
DTEND;TZID=Europe/Zurich:20250327T113000
DTSTAMP:20260421T171230
CREATED:20250303T073945Z
LAST-MODIFIED:20250306T160421Z
UID:10000073-1743073200-1743075000@club.groupe-t2i.com
SUMMARY:Webinar Nouveautés produits YOUDOC
DESCRIPTION:Destinée aux utilisateurs de l’application YOUDOC\, cette séance d’information présentera les nouveautés disponibles dans la livraison 25Q1 : \n\nVotre module Circulation se dote d’une nouvelle interface moderne et intuitive\nEvolution des notifications par mail lors de l’ajout de documents dans les corbeilles\nSignature des documents depuis la GED uniquement afin d’améliorer la traçabilité de vos documents\nDiverses améliorations\n\nSéance d’information animée par Jean-Yves Perrin\, Product Owner de YOUDOC et Lilian Duval\, Account Manager
URL:https://club.groupe-t2i.com/event/webinar-nouveautes-produits-youdoc-4/
LOCATION:En ligne
ATTACH;FMTTYPE=image/png:https://club.groupe-t2i.com/wp-content/uploads/2024/03/webinaire-club-utilisateurs-groupe-t2i-synergies.png
END:VEVENT
BEGIN:VEVENT
DTSTART;TZID=Europe/Zurich:20250327T140000
DTEND;TZID=Europe/Zurich:20250327T143000
DTSTAMP:20260421T171230
CREATED:20250219T105201Z
LAST-MODIFIED:20250219T105201Z
UID:10000069-1743084000-1743085800@club.groupe-t2i.com
SUMMARY:Webinar Nouveautés produits HR CAFE
DESCRIPTION:Destinée aux utilisateurs de l’application HR CAFÉ\, cette séance d’information présentera les nouveautés disponibles dans la livraison 25Q1 : \n\nHR Café\, certifié Swissdec 5\nDistribution automatique des fiches de paie\nPossibilité de saisir un montant manuel pour les allocations familiales\nSuppression d’un employé\nChamps supplémentaires pour les comptes bancaires\nPossibilité de paramétrer et ouvrir des liens sur des pages web tierces\n\n  \nSéance d’information animée par Sebastian STREHMEL\, Product Manager de HR CAFE \n 
URL:https://club.groupe-t2i.com/event/webinar-nouveautes-produits-hr-cafe-4/
LOCATION:En ligne
ATTACH;FMTTYPE=image/png:https://club.groupe-t2i.com/wp-content/uploads/2024/03/webinaire-club-utilisateurs-groupe-t2i-synergies.png
END:VEVENT
END:VCALENDAR