BEGIN:VCALENDAR
VERSION:2.0
PRODID:-//Club Synergies - Groupe t2i - ECPv6.15.15//NONSGML v1.0//EN
CALSCALE:GREGORIAN
METHOD:PUBLISH
X-ORIGINAL-URL:https://club.groupe-t2i.com
X-WR-CALDESC:Évènements pour Club Synergies - Groupe t2i
REFRESH-INTERVAL;VALUE=DURATION:PT1H
X-Robots-Tag:noindex
X-PUBLISHED-TTL:PT1H
BEGIN:VTIMEZONE
TZID:Europe/Zurich
BEGIN:DAYLIGHT
TZOFFSETFROM:+0100
TZOFFSETTO:+0200
TZNAME:CEST
DTSTART:20230326T010000
END:DAYLIGHT
BEGIN:STANDARD
TZOFFSETFROM:+0200
TZOFFSETTO:+0100
TZNAME:CET
DTSTART:20231029T010000
END:STANDARD
BEGIN:DAYLIGHT
TZOFFSETFROM:+0100
TZOFFSETTO:+0200
TZNAME:CEST
DTSTART:20240331T010000
END:DAYLIGHT
BEGIN:STANDARD
TZOFFSETFROM:+0200
TZOFFSETTO:+0100
TZNAME:CET
DTSTART:20241027T010000
END:STANDARD
BEGIN:DAYLIGHT
TZOFFSETFROM:+0100
TZOFFSETTO:+0200
TZNAME:CEST
DTSTART:20250330T010000
END:DAYLIGHT
BEGIN:STANDARD
TZOFFSETFROM:+0200
TZOFFSETTO:+0100
TZNAME:CET
DTSTART:20251026T010000
END:STANDARD
END:VTIMEZONE
BEGIN:VEVENT
DTSTART;TZID=Europe/Zurich:20241205T153000
DTEND;TZID=Europe/Zurich:20241205T173000
DTSTAMP:20260419T181537
CREATED:20240329T071828Z
LAST-MODIFIED:20241120T130951Z
UID:10000021-1733412600-1733419800@club.groupe-t2i.com
SUMMARY:Rencontre Clients – Sierre – Vin chaud et buffet de Noël
DESCRIPTION:Rencontre Clients – Sierre – Vin chaud et buffet de Noël\nNous vous attendons dans nos locaux de Sierre pour un apéritif qui aura pour objectif de vous donner des informations sur vos produits et d’échanger avec nos équipes. \nIl nous tient à cœur de rencontrer régulièrement nos clients afin de mieux comprendre vos besoins et recueillir vos feedback utilisateurs. Nous sommes heureux de vous convier à notre prochaine rencontre clients qui se tiendra le 5 décembre prochain à Sierre. A l’approche des fêtes de fin d’année\, nous serons ravis de partager avec vous un apéritif de Noël suite aux présentations ! Ce moment se veut avant tout convivial et propice aux échanges avec nos équipes et entre utilisateurs de nos solutions \nInscrivez-vous sans attendre ! Nous nous réjouissions de vous rencontrer.  \n  \nProgramme   \n15h30 : Accueil café \n15h45 : Présentation  \n\nMot de bienvenue de la Direction  \nRoadmap et nouveautés produit \nMise à jour de notre infrastructure informatique : Présentation du projet et avantages pour nos clients\nPrésentation du projet de migration vers Microsoft 365\n\n16h45 : Vin chaud et buffet de Noël \n18h00 : Fin \n  \nPour vous inscrire\, merci de renseigner le formulaire en cliquant\, ci-dessous\, sur INSCRIPTION ou de nous faire un mail à contact@groupe-t2i.com.
URL:https://club.groupe-t2i.com/event/rencontre-clients-sierre/
LOCATION:Valais
ATTACH;FMTTYPE=image/png:https://club.groupe-t2i.com/wp-content/uploads/2024/03/Design-sans-titre-55.png
END:VEVENT
END:VCALENDAR