BEGIN:VCALENDAR
VERSION:2.0
PRODID:-//Club Synergies - Groupe t2i - ECPv6.15.15//NONSGML v1.0//EN
CALSCALE:GREGORIAN
METHOD:PUBLISH
X-ORIGINAL-URL:https://club.groupe-t2i.com
X-WR-CALDESC:Évènements pour Club Synergies - Groupe t2i
REFRESH-INTERVAL;VALUE=DURATION:PT1H
X-Robots-Tag:noindex
X-PUBLISHED-TTL:PT1H
BEGIN:VTIMEZONE
TZID:Europe/Zurich
BEGIN:DAYLIGHT
TZOFFSETFROM:+0100
TZOFFSETTO:+0200
TZNAME:CEST
DTSTART:20230326T010000
END:DAYLIGHT
BEGIN:STANDARD
TZOFFSETFROM:+0200
TZOFFSETTO:+0100
TZNAME:CET
DTSTART:20231029T010000
END:STANDARD
BEGIN:DAYLIGHT
TZOFFSETFROM:+0100
TZOFFSETTO:+0200
TZNAME:CEST
DTSTART:20240331T010000
END:DAYLIGHT
BEGIN:STANDARD
TZOFFSETFROM:+0200
TZOFFSETTO:+0100
TZNAME:CET
DTSTART:20241027T010000
END:STANDARD
BEGIN:DAYLIGHT
TZOFFSETFROM:+0100
TZOFFSETTO:+0200
TZNAME:CEST
DTSTART:20250330T010000
END:DAYLIGHT
BEGIN:STANDARD
TZOFFSETFROM:+0200
TZOFFSETTO:+0100
TZNAME:CET
DTSTART:20251026T010000
END:STANDARD
END:VTIMEZONE
BEGIN:VEVENT
DTSTART;TZID=Europe/Zurich:20241001T083000
DTEND;TZID=Europe/Zurich:20241001T120000
DTSTAMP:20260420T185020
CREATED:20240404T114808Z
LAST-MODIFIED:20240820T124816Z
UID:10000029-1727771400-1727784000@club.groupe-t2i.com
SUMMARY:FORMATIONS - Dépouillement Conseil Communal et Conseil Général - Sierre
DESCRIPTION:Dépouillement Conseil Communal du 13.10.2024 et Conseil Général du 10.11.2024 \nInfos Générales \n\nDurée : 1/2 journée (08h30-12h00)\nSalle : Locaux du Groupe T2i Sierre – Salle Bis-trop\nPopulation cible : Utilisateurs module Dépouillement – Xpert.Commune (commune VS)\nDélai d’inscription : Une semaine avant la date du cours\nPrix : CHF 250.– hors TVA par personne (non payant pour les communes ayant cette prestation comprise dans leur contrat)\n\n\n\nContenu de la formation\n( le travail sera réalisé dans les environnements clients) \nDans ce cours les thèmes suivants seront abordés :\n\n\n\nParamètres généraux\nGestion des droits utilisateurs\nCréation d’un scrutin\nSaisie des listes compactes\nSaisie des bulletins modifiés\nCalculation et impression des résultats\nQuestions et réponses\n\n\n\nConditions générales \nEn cas d’empêchement du participant prévu\, un remplaçant peut être substitué sans frais\, à condition d’en aviser le Groupe T2i. Les inscriptions peuvent être retirées sans frais\, au plus tard 15 jours avant la date du cours. Passé ce délai\, la finance de cours pour les communes non-centralisées reste acquise au Groupe T2i. Le Groupe T2i se réserve le droit de reporter et / ou d’annuler d’un cours. \nEn soumettant ce formulaire\, vous consentez au traitement de vos données personnelles qui ne seront utilisées que dans le seul cadre de votre demande. Vos droits d’accès et le moyen pour les exercer sont mentionnés dans notre déclaration de protection des données.
URL:https://club.groupe-t2i.com/event/formations-citizen-depouillement-conseil-communal-et-conseil-general-sierre-01-10/
LOCATION:Valais
ATTACH;FMTTYPE=image/jpeg:https://club.groupe-t2i.com/wp-content/uploads/2024/03/formation-club-utilisateurs-aout.jpg
END:VEVENT
BEGIN:VEVENT
DTSTART;TZID=Europe/Zurich:20241001T110000
DTEND;TZID=Europe/Zurich:20241001T113000
DTSTAMP:20260420T185020
CREATED:20240718T164936Z
LAST-MODIFIED:20240904T141936Z
UID:10000037-1727780400-1727782200@club.groupe-t2i.com
SUMMARY:Webinar Nouveautés produits HR CAFE
DESCRIPTION:Destinée aux utilisateurs de l’application HR CAFÉ\, cette séance d’information présentera les nouveautés disponibles dans la livraison 24Q3 : \n\nApplication mobile pour la saisie des notes de frais\nSalaires : Remplacement d’IncaMail par ePost pour l’envoi des documents\nCorrections et améliorations\nJobalino : Présentation du module pour la gestion des recrutements\n\nCe webinar sera également l’occasion de vous présenter le futur module d’indicateurs RH. \n  \nSéance d’information animée par Sebastian STREHMEL\, Product Manager de HR CAFE \n 
URL:https://club.groupe-t2i.com/event/webinar-nouveautes-produits-hr-cafe-3/
LOCATION:En ligne
ATTACH;FMTTYPE=image/png:https://club.groupe-t2i.com/wp-content/uploads/2024/03/webinaire-club-utilisateurs-groupe-t2i-synergies.png
END:VEVENT
BEGIN:VEVENT
DTSTART;TZID=Europe/Zurich:20241001T140000
DTEND;TZID=Europe/Zurich:20241001T143000
DTSTAMP:20260420T185020
CREATED:20240718T164745Z
LAST-MODIFIED:20240904T141858Z
UID:10000036-1727791200-1727793000@club.groupe-t2i.com
SUMMARY:Webinar Nouveautés produits YOUDOC
DESCRIPTION:Destinée aux utilisateurs de l’application YOUDOC\, cette séance d’information présentera les nouveautés disponibles dans la livraison 24Q3 : \n\nRéception du courrier ePost dans YOUDOC\nCréation d’une version au format PDF de documents Office pour envoi en signature\nSpécifications des API REST via Open API\n\nCe webinar sera également l’occasion de vous présenter\, en avant-première\, la future interface de YOUDOC Circulation. \n  \nSéance d’information animée par Maxime ALLEGRO\, Product Manager de YOUDOC
URL:https://club.groupe-t2i.com/event/webinar-nouveautes-produits-youdoc-3/
LOCATION:En ligne
ATTACH;FMTTYPE=image/png:https://club.groupe-t2i.com/wp-content/uploads/2024/03/webinaire-club-utilisateurs-groupe-t2i-synergies.png
END:VEVENT
END:VCALENDAR